BEGIN:VCALENDAR
VERSION:2.0
PRODID:-//OKO Kyudo Europe - ECPv6.15.20//NONSGML v1.0//EN
CALSCALE:GREGORIAN
METHOD:PUBLISH
X-ORIGINAL-URL:https://kyudo.org
X-WR-CALDESC:Veranstaltungen für OKO Kyudo Europe
REFRESH-INTERVAL;VALUE=DURATION:PT1H
X-Robots-Tag:noindex
X-PUBLISHED-TTL:PT1H
BEGIN:VTIMEZONE
TZID:UTC
BEGIN:STANDARD
TZOFFSETFROM:+0000
TZOFFSETTO:+0000
TZNAME:UTC
DTSTART:20230101T000000
END:STANDARD
END:VTIMEZONE
BEGIN:VEVENT
DTSTART;TZID=UTC:20240419T220000
DTEND;TZID=UTC:20240421T215959
DTSTAMP:20260423T083352
CREATED:20240413T134752Z
LAST-MODIFIED:20240418T141652Z
UID:55-1713564000-1713736799@kyudo.org
SUMMARY:Barako – 薔薇虎 – Gouda: Open weekend with first shot training
DESCRIPTION:Informationen: https://www.zenboogschieten.nl
URL:https://kyudo.org/event/open-weekend-with-first-shot-training/
END:VEVENT
END:VCALENDAR