BEGIN:VCALENDAR
VERSION:2.0
PRODID:-//OKO Kyudo Europe - ECPv6.15.20//NONSGML v1.0//EN
CALSCALE:GREGORIAN
METHOD:PUBLISH
X-WR-CALNAME:OKO Kyudo Europe
X-ORIGINAL-URL:https://kyudo.org
X-WR-CALDESC:Veranstaltungen für OKO Kyudo Europe
REFRESH-INTERVAL;VALUE=DURATION:PT1H
X-Robots-Tag:noindex
X-PUBLISHED-TTL:PT1H
BEGIN:VTIMEZONE
TZID:UTC
BEGIN:STANDARD
TZOFFSETFROM:+0000
TZOFFSETTO:+0000
TZNAME:UTC
DTSTART:20240101T000000
END:STANDARD
END:VTIMEZONE
BEGIN:VEVENT
DTSTART;TZID=UTC:20250607T000000
DTEND;TZID=UTC:20250609T235959
DTSTAMP:20260420T051829
CREATED:20240418T124534Z
LAST-MODIFIED:20250319T151223Z
UID:199-1749254400-1749513599@kyudo.org
SUMMARY:Koko – 古虎 – Bern: Seminar with Sensei
DESCRIPTION:Informationen hier (pdf) und bei Koko Kyudo
URL:https://kyudo.org/event/bern-programm-mit-sensei/
END:VEVENT
END:VCALENDAR