BEGIN:VCALENDAR
VERSION:2.0
PRODID:-//OKO Kyudo Europe - ECPv6.15.20//NONSGML v1.0//EN
CALSCALE:GREGORIAN
METHOD:PUBLISH
X-WR-CALNAME:OKO Kyudo Europe
X-ORIGINAL-URL:https://kyudo.org
X-WR-CALDESC:Veranstaltungen für OKO Kyudo Europe
REFRESH-INTERVAL;VALUE=DURATION:PT1H
X-Robots-Tag:noindex
X-PUBLISHED-TTL:PT1H
BEGIN:VTIMEZONE
TZID:UTC
BEGIN:STANDARD
TZOFFSETFROM:+0000
TZOFFSETTO:+0000
TZNAME:UTC
DTSTART:20240101T000000
END:STANDARD
END:VTIMEZONE
BEGIN:VEVENT
DTSTART;TZID=UTC:20250614T000000
DTEND;TZID=UTC:20250615T235959
DTSTAMP:20260420T052029
CREATED:20240418T142006Z
LAST-MODIFIED:20241128T163313Z
UID:233-1749859200-1750031999@kyudo.org
SUMMARY:Gako – 岳虎 – Wien: Seminar with Sensei
DESCRIPTION:Informations: https://www.gako-kyudo.at/kyudoseminar-mit-shibata-xxi
URL:https://kyudo.org/event/gako-%e5%b2%b3%e8%99%8e-wien-praxis-mit-sensei/
END:VEVENT
END:VCALENDAR