BEGIN:VCALENDAR
VERSION:2.0
PRODID:-//OKO Kyudo Europe - ECPv6.15.20//NONSGML v1.0//EN
CALSCALE:GREGORIAN
METHOD:PUBLISH
X-ORIGINAL-URL:https://kyudo.org
X-WR-CALDESC:Veranstaltungen für OKO Kyudo Europe
REFRESH-INTERVAL;VALUE=DURATION:PT1H
X-Robots-Tag:noindex
X-PUBLISHED-TTL:PT1H
BEGIN:VTIMEZONE
TZID:UTC
BEGIN:STANDARD
TZOFFSETFROM:+0000
TZOFFSETTO:+0000
TZNAME:UTC
DTSTART:20240101T000000
END:STANDARD
END:VTIMEZONE
BEGIN:VEVENT
DTSTART;TZID=UTC:20251115T000000
DTEND;TZID=UTC:20251116T235959
DTSTAMP:20260419T195930
CREATED:20251008T144927Z
LAST-MODIFIED:20251008T145007Z
UID:790-1763164800-1763337599@kyudo.org
SUMMARY:Barako – 薔薇虎 – Gouda: Open weekend and first shot training
DESCRIPTION:The Open weekend is open for kyudo practitioners who have have previously completed a first shot weekend or are able to do shichido (short distance) or hitote (long distance) by themselves.Who wants to learn to practise kyudo does a first shot training during the open weekend. The training lasts for two days: participants can register for two days only. \n\n\n\nTime tableSaturday 10:00 – 17:00hSunday 10:00 – 17:00hLocationWaldorfschool De RidderslagRidder van Catsweg 256\, 2805 BC GoudaFor more information send an email to info@barakokyudo.nlor see: https://barakokyudo.nl/index.php/en/agenda-eng/#open-weekend 
URL:https://kyudo.org/event/barako-%e8%96%94%e8%96%87%e8%99%8e-gouda-open-weekend-and-first-shot-training/
END:VEVENT
END:VCALENDAR