BEGIN:VCALENDAR
VERSION:2.0
PRODID:-//OKO Kyudo Europe - ECPv6.15.20//NONSGML v1.0//EN
CALSCALE:GREGORIAN
METHOD:PUBLISH
X-WR-CALNAME:OKO Kyudo Europe
X-ORIGINAL-URL:https://kyudo.org
X-WR-CALDESC:Veranstaltungen für OKO Kyudo Europe
REFRESH-INTERVAL;VALUE=DURATION:PT1H
X-Robots-Tag:noindex
X-PUBLISHED-TTL:PT1H
BEGIN:VTIMEZONE
TZID:UTC
BEGIN:STANDARD
TZOFFSETFROM:+0000
TZOFFSETTO:+0000
TZNAME:UTC
DTSTART:20250101T000000
END:STANDARD
END:VTIMEZONE
BEGIN:VEVENT
DTSTART;TZID=UTC:20260530T000000
DTEND;TZID=UTC:20260531T235959
DTSTAMP:20260424T203247
CREATED:20251210T124932Z
LAST-MODIFIED:20251210T125407Z
UID:799-1780099200-1780271999@kyudo.org
SUMMARY:Barako – 薔薇虎 – Gouda: Seminar with Sensei
DESCRIPTION:Details: https://barakokyudo.nl
URL:https://kyudo.org/event/sensei-seminar-in-gauda/
END:VEVENT
BEGIN:VEVENT
DTSTART;TZID=UTC:20260604T000000
DTEND;TZID=UTC:20260607T235959
DTSTAMP:20260424T203247
CREATED:20251210T125110Z
LAST-MODIFIED:20251215T143503Z
UID:802-1780531200-1780876799@kyudo.org
SUMMARY:Gako – 岳虎 – Wien: Seminar with Sensei
DESCRIPTION:Details: Seminar with Sensei Shibata XXI
URL:https://kyudo.org/event/gako-%e5%b2%b3%e8%99%8e-wien-seminar-with-sensei/
END:VEVENT
BEGIN:VEVENT
DTSTART;TZID=UTC:20260905T000000
DTEND;TZID=UTC:20260906T235959
DTSTAMP:20260424T203247
CREATED:20251215T093207Z
LAST-MODIFIED:20251215T093207Z
UID:811-1788566400-1788739199@kyudo.org
SUMMARY:Gako – 岳虎 – Wien:  21st Vienna Kyudo Meeting
DESCRIPTION:Details: 21st Vienna Kyudo Meeting
URL:https://kyudo.org/event/gako-%e5%b2%b3%e8%99%8e-wien-21st-vienna-kyudo-meeting/
END:VEVENT
END:VCALENDAR